BEGIN:VCALENDAR
VERSION:2.0
PRODID:-//Crystal Cove Homeowner&#039;s Association - ECPv6.15.20//NONSGML v1.0//EN
CALSCALE:GREGORIAN
METHOD:PUBLISH
X-ORIGINAL-URL:https://crystalcovedeland.com
X-WR-CALDESC:Events for Crystal Cove Homeowner&#039;s Association
REFRESH-INTERVAL;VALUE=DURATION:PT1H
X-Robots-Tag:noindex
X-PUBLISHED-TTL:PT1H
BEGIN:VTIMEZONE
TZID:UTC
BEGIN:STANDARD
TZOFFSETFROM:+0000
TZOFFSETTO:+0000
TZNAME:UTC
DTSTART:20240101T000000
END:STANDARD
END:VTIMEZONE
BEGIN:VEVENT
DTSTART;TZID=UTC:20250805T200000
DTEND;TZID=UTC:20250805T210000
DTSTAMP:20260425T111633
CREATED:20250717T174213Z
LAST-MODIFIED:20250717T174641Z
UID:213-1754424000-1754427600@crystalcovedeland.com
SUMMARY:Architectural Review Board Meeting - August 5\, 2025
DESCRIPTION:ARB Meeting \nAugust 5\, 2025\, at 8:00pm \nVia phone: (605) 313 – 4121 \nPasscode: 313578 \n\nARB Applications\nNew Business\nOwner Comments
URL:https://crystalcovedeland.com/event/architectural-review-board-meeting-august-5-2025/
LOCATION:Via Phone
CATEGORIES:ARB Meeting,Meetings
END:VEVENT
END:VCALENDAR