BEGIN:VCALENDAR
VERSION:2.0
PRODID:-//Crystal Cove Homeowner&#039;s Association - ECPv6.15.20//NONSGML v1.0//EN
CALSCALE:GREGORIAN
METHOD:PUBLISH
X-ORIGINAL-URL:https://crystalcovedeland.com
X-WR-CALDESC:Events for Crystal Cove Homeowner&#039;s Association
REFRESH-INTERVAL;VALUE=DURATION:PT1H
X-Robots-Tag:noindex
X-PUBLISHED-TTL:PT1H
BEGIN:VTIMEZONE
TZID:UTC
BEGIN:STANDARD
TZOFFSETFROM:+0000
TZOFFSETTO:+0000
TZNAME:UTC
DTSTART:20250101T000000
END:STANDARD
END:VTIMEZONE
BEGIN:VEVENT
DTSTART;TZID=UTC:20260407T183000
DTEND;TZID=UTC:20260407T190000
DTSTAMP:20260424T204928
CREATED:20260211T180559Z
LAST-MODIFIED:20260211T180559Z
UID:303-1775586600-1775588400@crystalcovedeland.com
SUMMARY:Annual Meeting
DESCRIPTION:Annual meeting will take place on April 7th\, 2026 at 6:30pm.
URL:https://crystalcovedeland.com/event/annual-meeting/
LOCATION:Crystal Cove\, Deland\, Florida\, United States
CATEGORIES:Meetings
END:VEVENT
END:VCALENDAR