BEGIN:VCALENDAR
VERSION:2.0
PRODID:-//Crystal Cove Homeowner&#039;s Association - ECPv6.15.20//NONSGML v1.0//EN
CALSCALE:GREGORIAN
METHOD:PUBLISH
X-WR-CALNAME:Crystal Cove Homeowner&#039;s Association
X-ORIGINAL-URL:https://crystalcovedeland.com
X-WR-CALDESC:Events for Crystal Cove Homeowner&#039;s Association
REFRESH-INTERVAL;VALUE=DURATION:PT1H
X-Robots-Tag:noindex
X-PUBLISHED-TTL:PT1H
BEGIN:VTIMEZONE
TZID:UTC
BEGIN:STANDARD
TZOFFSETFROM:+0000
TZOFFSETTO:+0000
TZNAME:UTC
DTSTART:20240101T000000
END:STANDARD
END:VTIMEZONE
BEGIN:VEVENT
DTSTART;TZID=UTC:20260407T183000
DTEND;TZID=UTC:20260407T190000
DTSTAMP:20260424T190602
CREATED:20260211T180559Z
LAST-MODIFIED:20260211T180559Z
UID:303-1775586600-1775588400@crystalcovedeland.com
SUMMARY:Annual Meeting
DESCRIPTION:Annual meeting will take place on April 7th\, 2026 at 6:30pm.
URL:https://crystalcovedeland.com/event/annual-meeting/
LOCATION:Crystal Cove\, Deland\, Florida\, United States
CATEGORIES:Meetings
END:VEVENT
BEGIN:VEVENT
DTSTART;TZID=UTC:20260106T200000
DTEND;TZID=UTC:20260106T210000
DTSTAMP:20260424T190602
CREATED:20250717T180400Z
LAST-MODIFIED:20250717T180400Z
UID:223-1767729600-1767733200@crystalcovedeland.com
SUMMARY:Architectural Review Board Meeting - January 6\, 2026
DESCRIPTION:ARB Meeting \nJanuary 6\, 2026\, at 8:00pm \nVia phone: (605) 313 – 4121 \nPasscode: 313578 \n\nARB Applications\nNew Business\nOwner Comments
URL:https://crystalcovedeland.com/event/architectural-review-board-meeting-january-6-2026/
LOCATION:Via Phone
CATEGORIES:ARB Meeting,Meetings
END:VEVENT
BEGIN:VEVENT
DTSTART;TZID=UTC:20251202T200000
DTEND;TZID=UTC:20251202T210000
DTSTAMP:20260424T190602
CREATED:20250717T180124Z
LAST-MODIFIED:20250717T180239Z
UID:221-1764705600-1764709200@crystalcovedeland.com
SUMMARY:Architectural Review Board Meeting - December 2\, 2025
DESCRIPTION:ARB Meeting \nDecember 2\, 2025\, at 8:00pm \nVia phone: (605) 313 – 4121 \nPasscode: 313578 \n\nARB Applications\nNew Business\nOwner Comments
URL:https://crystalcovedeland.com/event/architectural-review-board-meeting-december-2-2025/
LOCATION:Via Phone
CATEGORIES:ARB Meeting,Meetings
END:VEVENT
BEGIN:VEVENT
DTSTART;TZID=UTC:20251104T200000
DTEND;TZID=UTC:20251104T210000
DTSTAMP:20260424T190602
CREATED:20250717T175504Z
LAST-MODIFIED:20250717T175752Z
UID:219-1762286400-1762290000@crystalcovedeland.com
SUMMARY:Architectural Review Board Meeting - November 4\, 2025
DESCRIPTION:ARB Meeting \nNovember 4\, 2025\, at 8:00pm \nVia phone: (605) 313 – 4121 \nPasscode: 313578 \n\nARB Applications\nNew Business\nOwner Comments
URL:https://crystalcovedeland.com/event/architectural-review-board-meeting-november-4-2025/
LOCATION:Via Phone
CATEGORIES:ARB Meeting,Meetings
END:VEVENT
BEGIN:VEVENT
DTSTART;TZID=UTC:20251007T200000
DTEND;TZID=UTC:20251007T210000
DTSTAMP:20260424T190602
CREATED:20250717T175124Z
LAST-MODIFIED:20250717T175822Z
UID:217-1759867200-1759870800@crystalcovedeland.com
SUMMARY:Architectural Review Board Meeting - October 7\, 2025
DESCRIPTION:ARB Meeting \nOctober 7\, 2025\, at 8:00pm \nVia phone: (605) 313 – 4121 \nPasscode: 313578 \n\nARB Applications\nNew Business\nOwner Comments
URL:https://crystalcovedeland.com/event/architectural-review-board-meeting-october-7-2025/
LOCATION:Via Phone
CATEGORIES:ARB Meeting,Meetings
END:VEVENT
BEGIN:VEVENT
DTSTART;TZID=UTC:20250902T200000
DTEND;TZID=UTC:20250902T210000
DTSTAMP:20260424T190602
CREATED:20250717T174856Z
LAST-MODIFIED:20250717T175935Z
UID:215-1756843200-1756846800@crystalcovedeland.com
SUMMARY:Architectural Review Board Meeting - September 2\, 2025
DESCRIPTION:ARB Meeting \nSeptember 2\, 2025\, at 8:00pm \nVia phone: (605) 313 – 4121 \nPasscode: 313578 \n\nARB Applications\nNew Business\nOwner Comments
URL:https://crystalcovedeland.com/event/architectural-review-board-meeting-september-2-2025/
LOCATION:Via Phone
CATEGORIES:ARB Meeting,Meetings
END:VEVENT
BEGIN:VEVENT
DTSTART;TZID=UTC:20250805T200000
DTEND;TZID=UTC:20250805T210000
DTSTAMP:20260424T190602
CREATED:20250717T174213Z
LAST-MODIFIED:20250717T174641Z
UID:213-1754424000-1754427600@crystalcovedeland.com
SUMMARY:Architectural Review Board Meeting - August 5\, 2025
DESCRIPTION:ARB Meeting \nAugust 5\, 2025\, at 8:00pm \nVia phone: (605) 313 – 4121 \nPasscode: 313578 \n\nARB Applications\nNew Business\nOwner Comments
URL:https://crystalcovedeland.com/event/architectural-review-board-meeting-august-5-2025/
LOCATION:Via Phone
CATEGORIES:ARB Meeting,Meetings
END:VEVENT
BEGIN:VEVENT
DTSTART;TZID=UTC:20250716T180000
DTEND;TZID=UTC:20250716T210000
DTSTAMP:20260424T190602
CREATED:20250710T154425Z
LAST-MODIFIED:20250710T154425Z
UID:207-1752688800-1752699600@crystalcovedeland.com
SUMMARY:ARB Meeting July 16\, 2025
DESCRIPTION:ARB Meeting \nJuly 16\, 2025\, at 6:00pm \nVia phone: (605) 313 – 4121 \nPasscode: 313578 \n\nReview of ARB guidelines\n310 Crystal Pond-Paint\n311 Crystal Pond-Paint\nNew Business
URL:https://crystalcovedeland.com/event/arb-meeting-july-16-2025/
LOCATION:Via Phone
CATEGORIES:Meetings
END:VEVENT
END:VCALENDAR